BEGIN:VCALENDAR
VERSION:2.0
PRODID:-//LandFrauen Diepholz e.V. - ECPv6.15.16//NONSGML v1.0//EN
CALSCALE:GREGORIAN
METHOD:PUBLISH
X-WR-CALNAME:LandFrauen Diepholz e.V.
X-ORIGINAL-URL:https://www.landfrauen-diepholz.de
X-WR-CALDESC:Veranstaltungen für LandFrauen Diepholz e.V.
REFRESH-INTERVAL;VALUE=DURATION:PT1H
X-Robots-Tag:noindex
X-PUBLISHED-TTL:PT1H
BEGIN:VTIMEZONE
TZID:Europe/Berlin
BEGIN:DAYLIGHT
TZOFFSETFROM:+0100
TZOFFSETTO:+0200
TZNAME:CEST
DTSTART:20250330T010000
END:DAYLIGHT
BEGIN:STANDARD
TZOFFSETFROM:+0200
TZOFFSETTO:+0100
TZNAME:CET
DTSTART:20251026T010000
END:STANDARD
BEGIN:DAYLIGHT
TZOFFSETFROM:+0100
TZOFFSETTO:+0200
TZNAME:CEST
DTSTART:20260329T010000
END:DAYLIGHT
BEGIN:STANDARD
TZOFFSETFROM:+0200
TZOFFSETTO:+0100
TZNAME:CET
DTSTART:20261025T010000
END:STANDARD
BEGIN:DAYLIGHT
TZOFFSETFROM:+0100
TZOFFSETTO:+0200
TZNAME:CEST
DTSTART:20270328T010000
END:DAYLIGHT
BEGIN:STANDARD
TZOFFSETFROM:+0200
TZOFFSETTO:+0100
TZNAME:CET
DTSTART:20271031T010000
END:STANDARD
END:VTIMEZONE
BEGIN:VEVENT
DTSTART;TZID=Europe/Berlin:20260416T180000
DTEND;TZID=Europe/Berlin:20260416T210000
DTSTAMP:20260424T191606
CREATED:20260304T093110Z
LAST-MODIFIED:20260304T093110Z
UID:3562-1776362400-1776373200@www.landfrauen-diepholz.de
SUMMARY:Gartenstele aus Eisen und Beton
DESCRIPTION:Wir fertigen an 2 Abenden eine Stele mit einfachen und klaren Strukturen. Sie ist ein tolles Accessoire für Haus und Garten. Die außergewöhnliche Form einer Stele kann aus vielen handlichen Elementen hergestellt werden. Den notwendigen Halt gibt eine 1\,50 m hohe Eisenstange\, die auf eine Eisenplatte geschweißt ist. \nZuhause kann die Stele nach eigenen Wunsch bemalt und versiegelt werden. \nMitzubringen sind: Gummihandschuhe und ein Eimer (10 l) \nKursleitung: Judite Weidenkamp \n  \n*** der Kurs ist ausgebucht ***
URL:https://www.landfrauen-diepholz.de/veranstaltung/gartenstele-aus-eisen-und-beton/
END:VEVENT
END:VCALENDAR