BEGIN:VCALENDAR
VERSION:2.0
PRODID:-//LandFrauen Diepholz e.V. - ECPv6.15.16//NONSGML v1.0//EN
CALSCALE:GREGORIAN
METHOD:PUBLISH
X-ORIGINAL-URL:https://www.landfrauen-diepholz.de
X-WR-CALDESC:Veranstaltungen für LandFrauen Diepholz e.V.
REFRESH-INTERVAL;VALUE=DURATION:PT1H
X-Robots-Tag:noindex
X-PUBLISHED-TTL:PT1H
BEGIN:VTIMEZONE
TZID:Europe/Berlin
BEGIN:DAYLIGHT
TZOFFSETFROM:+0100
TZOFFSETTO:+0200
TZNAME:CEST
DTSTART:20250330T010000
END:DAYLIGHT
BEGIN:STANDARD
TZOFFSETFROM:+0200
TZOFFSETTO:+0100
TZNAME:CET
DTSTART:20251026T010000
END:STANDARD
BEGIN:DAYLIGHT
TZOFFSETFROM:+0100
TZOFFSETTO:+0200
TZNAME:CEST
DTSTART:20260329T010000
END:DAYLIGHT
BEGIN:STANDARD
TZOFFSETFROM:+0200
TZOFFSETTO:+0100
TZNAME:CET
DTSTART:20261025T010000
END:STANDARD
BEGIN:DAYLIGHT
TZOFFSETFROM:+0100
TZOFFSETTO:+0200
TZNAME:CEST
DTSTART:20270328T010000
END:DAYLIGHT
BEGIN:STANDARD
TZOFFSETFROM:+0200
TZOFFSETTO:+0100
TZNAME:CET
DTSTART:20271031T010000
END:STANDARD
END:VTIMEZONE
BEGIN:VEVENT
DTSTART;TZID=Europe/Berlin:20261002T130000
DTEND;TZID=Europe/Berlin:20261002T130000
DTSTAMP:20260424T211037
CREATED:20260225T085005Z
LAST-MODIFIED:20260225T085047Z
UID:3511-1790946000-1790946000@www.landfrauen-diepholz.de
SUMMARY:Fahrt zur Landpartie nach Visbek
DESCRIPTION:Ein Besuch auf der Herbstpartie ist wie ein Tag Urlaub. Ca. 60 liebevoll ausgewählte Aussteller präsentieren inspirierende Ideen für Garten\, Haus\, Mode und Genuss. Kulinarische Köstlichkeiten sind auch dabei. \nAbfahrt: 13:00 Uhr Marktplatz Wagenfeld \n13:15 Uhr KSK Rehden \n13:20 Uhr Recker\, Wetschen \n13:30 Uhr Marktplatz Diepholz \nDie Rückfahrt ist für ca. 19 Uhr angesetzt. \nKosten: 25\,00 € ( bitte vorab auf das Veranstaltungskonto überweisen) \nAnmeldung bei Sylvia Klausing bis zum 10.09.26 \n 
URL:https://www.landfrauen-diepholz.de/veranstaltung/fahrt-zur-landpartie-nach-visbek/
LOCATION:Marktplatz Wagenfeld
END:VEVENT
BEGIN:VEVENT
DTSTART;TZID=Europe/Berlin:20261024T080000
DTEND;TZID=Europe/Berlin:20261025T000000
DTSTAMP:20260424T211037
CREATED:20260225T085517Z
LAST-MODIFIED:20260225T085557Z
UID:3515-1792828800-1792886400@www.landfrauen-diepholz.de
SUMMARY:Tauschbörse für Weihnachtsdeko ( 24.10.26 + 25.10.26)
DESCRIPTION:Jetzt ist die richtige zeit\, um in eure Weihnachtskisten zu schauen. Was ist noch gut in Schuss\, aber nicht mehr in Gebrauch? Vielleicht findet ihr bei unserer Tauschbörse etwas anderes Schönes. Es wird kein Geld fließen. \nBeginn (jeweils) 15.00 Uhr \nKosten:  keine \nAnmeldung bei Marion Grelle bis zum 01.10.26
URL:https://www.landfrauen-diepholz.de/veranstaltung/tauschboerse-fuer-weihnachtsdeko-24-10-26-25-10-26/
LOCATION:Gemeinehaus Rehden\, Pastorenweg 7\, Rehden\, 49453
END:VEVENT
END:VCALENDAR