BEGIN:VCALENDAR
VERSION:2.0
PRODID:-//LandFrauen Diepholz e.V. - ECPv6.15.16//NONSGML v1.0//EN
CALSCALE:GREGORIAN
METHOD:PUBLISH
X-ORIGINAL-URL:https://www.landfrauen-diepholz.de
X-WR-CALDESC:Veranstaltungen für LandFrauen Diepholz e.V.
REFRESH-INTERVAL;VALUE=DURATION:PT1H
X-Robots-Tag:noindex
X-PUBLISHED-TTL:PT1H
BEGIN:VTIMEZONE
TZID:Europe/Berlin
BEGIN:DAYLIGHT
TZOFFSETFROM:+0100
TZOFFSETTO:+0200
TZNAME:CEST
DTSTART:20250330T010000
END:DAYLIGHT
BEGIN:STANDARD
TZOFFSETFROM:+0200
TZOFFSETTO:+0100
TZNAME:CET
DTSTART:20251026T010000
END:STANDARD
BEGIN:DAYLIGHT
TZOFFSETFROM:+0100
TZOFFSETTO:+0200
TZNAME:CEST
DTSTART:20260329T010000
END:DAYLIGHT
BEGIN:STANDARD
TZOFFSETFROM:+0200
TZOFFSETTO:+0100
TZNAME:CET
DTSTART:20261025T010000
END:STANDARD
BEGIN:DAYLIGHT
TZOFFSETFROM:+0100
TZOFFSETTO:+0200
TZNAME:CEST
DTSTART:20270328T010000
END:DAYLIGHT
BEGIN:STANDARD
TZOFFSETFROM:+0200
TZOFFSETTO:+0100
TZNAME:CET
DTSTART:20271031T010000
END:STANDARD
END:VTIMEZONE
BEGIN:VEVENT
DTSTART;TZID=Europe/Berlin:20260901T123000
DTEND;TZID=Europe/Berlin:20260901T123000
DTSTAMP:20260424T193316
CREATED:20260225T083458Z
LAST-MODIFIED:20260225T083508Z
UID:3502-1788265800-1788265800@www.landfrauen-diepholz.de
SUMMARY:Halbtagesfahrt - u. a. Besuch des Bickbeerhofs Herse in Brokeloh
DESCRIPTION:Wir starten um 12:30 Uhr am Marktplatz in Diepholz und fahren mit dem Bus nach Brokeloh zum Bickbeerhof von Sylke Herse. Dort werden wir ihre Blaubeeren verkosten. Im Anschluss fahren wir in die Leinenfabrik ans Steinhuder Meer\, wo alle Zeit zum Stöbern und Kaufen haben. Zum Abschluss fahren wir ins Fischerhus Schweers-Harms\, um dort den Tag ausklingen zu lassen. \nKosten: 62\,00 € (bitte vorab auf das Veranstaltungskonto überweisen) \nAnmeldung bei Birgit Dannhus bis zum 15.08.26
URL:https://www.landfrauen-diepholz.de/veranstaltung/halbtagesfahrt-u-a-besuch-des-bickbeerhofs-herse-in-brokeloh/
LOCATION:Marktplatz Diepholz\, Auf dem Esch\, Diepholz\, 49356\, Germany
END:VEVENT
END:VCALENDAR