BEGIN:VCALENDAR
VERSION:2.0
PRODID:-//LandFrauen Diepholz e.V. - ECPv6.15.16//NONSGML v1.0//EN
CALSCALE:GREGORIAN
METHOD:PUBLISH
X-ORIGINAL-URL:https://www.landfrauen-diepholz.de
X-WR-CALDESC:Veranstaltungen für LandFrauen Diepholz e.V.
REFRESH-INTERVAL;VALUE=DURATION:PT1H
X-Robots-Tag:noindex
X-PUBLISHED-TTL:PT1H
BEGIN:VTIMEZONE
TZID:Europe/Berlin
BEGIN:DAYLIGHT
TZOFFSETFROM:+0100
TZOFFSETTO:+0200
TZNAME:CEST
DTSTART:20250330T010000
END:DAYLIGHT
BEGIN:STANDARD
TZOFFSETFROM:+0200
TZOFFSETTO:+0100
TZNAME:CET
DTSTART:20251026T010000
END:STANDARD
BEGIN:DAYLIGHT
TZOFFSETFROM:+0100
TZOFFSETTO:+0200
TZNAME:CEST
DTSTART:20260329T010000
END:DAYLIGHT
BEGIN:STANDARD
TZOFFSETFROM:+0200
TZOFFSETTO:+0100
TZNAME:CET
DTSTART:20261025T010000
END:STANDARD
BEGIN:DAYLIGHT
TZOFFSETFROM:+0100
TZOFFSETTO:+0200
TZNAME:CEST
DTSTART:20270328T010000
END:DAYLIGHT
BEGIN:STANDARD
TZOFFSETFROM:+0200
TZOFFSETTO:+0100
TZNAME:CET
DTSTART:20271031T010000
END:STANDARD
END:VTIMEZONE
BEGIN:VEVENT
DTSTART;TZID=Europe/Berlin:20260703T000000
DTEND;TZID=Europe/Berlin:20260704T000000
DTSTAMP:20260424T160018
CREATED:20260223T174917Z
LAST-MODIFIED:20260224T075827Z
UID:3466-1783036800-1783123200@www.landfrauen-diepholz.de
SUMMARY:Zwei-Tages-Radtour nach Bad Essen
DESCRIPTION:Mit leichtem Gepäck geht´s es in Richtung Stemwede. \nWir besichtigen einen Privatgarten und übernachten im Landhotel “ Der Buchenhof“. Zurück geht es über Levern mit einem Besuch bei Rila. \n  \n*** Diese Veranstaltung ist bereits   A U S G B U C H T  ***
URL:https://www.landfrauen-diepholz.de/veranstaltung/zwei-tages-radtour-nach-bad-essen/
END:VEVENT
BEGIN:VEVENT
DTSTART;TZID=Europe/Berlin:20260723T081500
DTEND;TZID=Europe/Berlin:20260723T200000
DTSTAMP:20260424T160018
CREATED:20260223T175607Z
LAST-MODIFIED:20260225T080740Z
UID:3468-1784794500-1784836800@www.landfrauen-diepholz.de
SUMMARY:Fahrt zur Landesgartenschau nach Bad Nenndorf
DESCRIPTION:Gestartet wird mit einem Frühstück-Buffet im Landhaus Meinkingsburg. danach geht´s zur Landesgartenschau. \nKosten: 70\,00 € der Betrag wird bar im Bus eingesammelt \nAnmeldung bei Inge Gölke \nAbfahrt: 08:15 Uhr Diepholz Marktplatz\n08:25 Uhr Wetschen Bushaltestelle\n08:30 Uhr Rehden KSK\n08:40 Uhr Wagenfeld Marktplatz\n08:50 Uhr Ströhen KSK \nRückfahrt: ca. 18.00 Uhr in Bad Nenndorf
URL:https://www.landfrauen-diepholz.de/veranstaltung/fahrt-zur-landesgartenschau-nach-bad-nenndorf/
LOCATION:Marktplatz Diepholz\, Auf dem Esch\, Diepholz\, 49356\, Germany
END:VEVENT
BEGIN:VEVENT
DTSTART;TZID=Europe/Berlin:20260815T160000
DTEND;TZID=Europe/Berlin:20260815T160000
DTSTAMP:20260424T160018
CREATED:20260225T080323Z
LAST-MODIFIED:20260225T080654Z
UID:3492-1786809600-1786809600@www.landfrauen-diepholz.de
SUMMARY:Weintasting am Dümmer-See
DESCRIPTION:Genieße eine geführte Weinwanderung von ca. 4 Kilometern am Dümmer-See. Timo führt uns durch die idyllische Landschaft und entdeckt mit uns 5 sorgfältig ausgewählte Weine und Snacks\, die Gaumen und Seele berühren. \nBeginn: 16.00 Uhr am Dümmermuseum \nKosten: 50\,00 € (bitte vorab auf das Veranstaltungskonto überweisen) \nAnmeldung bei Katharina Kalkhoff bis zum 10.07.26
URL:https://www.landfrauen-diepholz.de/veranstaltung/3492/
LOCATION:Dümmermuseum\, Götkers Hof 1\, Lembruch\, Niedersachsen\, 49459\, Germany
END:VEVENT
END:VCALENDAR