BEGIN:VCALENDAR
VERSION:2.0
PRODID:-//LandFrauen Diepholz e.V. - ECPv6.15.16//NONSGML v1.0//EN
CALSCALE:GREGORIAN
METHOD:PUBLISH
X-WR-CALNAME:LandFrauen Diepholz e.V.
X-ORIGINAL-URL:https://www.landfrauen-diepholz.de
X-WR-CALDESC:Veranstaltungen für LandFrauen Diepholz e.V.
REFRESH-INTERVAL;VALUE=DURATION:PT1H
X-Robots-Tag:noindex
X-PUBLISHED-TTL:PT1H
BEGIN:VTIMEZONE
TZID:Europe/Berlin
BEGIN:DAYLIGHT
TZOFFSETFROM:+0100
TZOFFSETTO:+0200
TZNAME:CEST
DTSTART:20250330T010000
END:DAYLIGHT
BEGIN:STANDARD
TZOFFSETFROM:+0200
TZOFFSETTO:+0100
TZNAME:CET
DTSTART:20251026T010000
END:STANDARD
BEGIN:DAYLIGHT
TZOFFSETFROM:+0100
TZOFFSETTO:+0200
TZNAME:CEST
DTSTART:20260329T010000
END:DAYLIGHT
BEGIN:STANDARD
TZOFFSETFROM:+0200
TZOFFSETTO:+0100
TZNAME:CET
DTSTART:20261025T010000
END:STANDARD
BEGIN:DAYLIGHT
TZOFFSETFROM:+0100
TZOFFSETTO:+0200
TZNAME:CEST
DTSTART:20270328T010000
END:DAYLIGHT
BEGIN:STANDARD
TZOFFSETFROM:+0200
TZOFFSETTO:+0100
TZNAME:CET
DTSTART:20271031T010000
END:STANDARD
END:VTIMEZONE
BEGIN:VEVENT
DTSTART;TZID=Europe/Berlin:20260416T180000
DTEND;TZID=Europe/Berlin:20260416T210000
DTSTAMP:20260424T104046
CREATED:20260304T093110Z
LAST-MODIFIED:20260304T093110Z
UID:3562-1776362400-1776373200@www.landfrauen-diepholz.de
SUMMARY:Gartenstele aus Eisen und Beton
DESCRIPTION:Wir fertigen an 2 Abenden eine Stele mit einfachen und klaren Strukturen. Sie ist ein tolles Accessoire für Haus und Garten. Die außergewöhnliche Form einer Stele kann aus vielen handlichen Elementen hergestellt werden. Den notwendigen Halt gibt eine 1\,50 m hohe Eisenstange\, die auf eine Eisenplatte geschweißt ist. \nZuhause kann die Stele nach eigenen Wunsch bemalt und versiegelt werden. \nMitzubringen sind: Gummihandschuhe und ein Eimer (10 l) \nKursleitung: Judite Weidenkamp \n  \n*** der Kurs ist ausgebucht ***
URL:https://www.landfrauen-diepholz.de/veranstaltung/gartenstele-aus-eisen-und-beton/
END:VEVENT
BEGIN:VEVENT
DTSTART;TZID=Europe/Berlin:20260418T090000
DTEND;TZID=Europe/Berlin:20260418T090000
DTSTAMP:20260424T104046
CREATED:20260223T073131Z
LAST-MODIFIED:20260224T080434Z
UID:3438-1776502800-1776502800@www.landfrauen-diepholz.de
SUMMARY:Frühstück in der Tortenschmiede mit dem Vortrag "Staudenbeete ohne Gießen"
DESCRIPTION:Die Influencerin und Staudenexpertin Lena Hartmann möchte ihre Leidenschaft für Stauden mit uns teilen. \nSie wird zum Thema Gestaltung im Zeichen des Klimawandels referieren \nKosten: 20 € incl. Getränke (Zahlbar vor Ort) \nAnmeldung bei Christine Heseker bis 10.04.26
URL:https://www.landfrauen-diepholz.de/veranstaltung/fruehstueck-in-der-tortenschmiede-mit-dem-vortrag-staudenbeete-ohne-giessen/
LOCATION:Tortenschmiede Dannhus\, Schmiedestr. 65\, Lembruch\, 49459
END:VEVENT
BEGIN:VEVENT
DTSTART;TZID=Europe/Berlin:20260418T150000
DTEND;TZID=Europe/Berlin:20260418T150000
DTSTAMP:20260424T104046
CREATED:20260223T073610Z
LAST-MODIFIED:20260224T080346Z
UID:3440-1776524400-1776524400@www.landfrauen-diepholz.de
SUMMARY:Dahlien - und Staudentauschtag mit One-Day-Cafe
DESCRIPTION:die Saison geht los\, die Dahlien wollen gepflanzt werden. \nZum Austauschen von Dahlienknollen und Stauden treffen wir uns im garten von Anne Meinecke in Barver (An den Bülten 11). \nMeldet euch bitte an\, das erleichtert die Planung. \n 
URL:https://www.landfrauen-diepholz.de/veranstaltung/dahlien-und-staudentauschtag-mit-one-day-cafe/
LOCATION:Anne Meinecke\, Wehrblecker Heide 3\, Barver\, Niedersachsen\, 49453\, Germany
END:VEVENT
BEGIN:VEVENT
DTSTART;TZID=Europe/Berlin:20260422T170000
DTEND;TZID=Europe/Berlin:20260422T180000
DTSTAMP:20260424T104046
CREATED:20260223T142541Z
LAST-MODIFIED:20260225T080903Z
UID:3454-1776877200-1776880800@www.landfrauen-diepholz.de
SUMMARY:Stark von Innen - Beckenbodenkurs
DESCRIPTION:In ruhiger Atmosphäre erlernen wir sanfte Übungen des Beckenbodens und der weiteren Extremitäten – angepasst an jedes Alter. \nEs handelt sich um 3 Termine (22.04.2026 \, 29.04.2026 u. 06.05.2026) \nEs besteht die Aussicht\, dass weitere 8 Termine angeboten werden können. \nKursleitung: Antje Mackenstedt \nAnmeldung : Antje Mackenstedt ( 0170/4162129) \nKosten 12 Euro je Stunde (36 € – Bezahlung vor Ort)
URL:https://www.landfrauen-diepholz.de/veranstaltung/zeitlos-massage-und-mehr/
LOCATION:Zeitlos – Massage und mehr\, Im Orte 118\, Hüde\, Niedersachsen\, 49448\, Germany
END:VEVENT
END:VCALENDAR