BEGIN:VCALENDAR
VERSION:2.0
PRODID:-//LandFrauen Diepholz e.V. - ECPv6.15.16//NONSGML v1.0//EN
CALSCALE:GREGORIAN
METHOD:PUBLISH
X-ORIGINAL-URL:https://www.landfrauen-diepholz.de
X-WR-CALDESC:Veranstaltungen für LandFrauen Diepholz e.V.
REFRESH-INTERVAL;VALUE=DURATION:PT1H
X-Robots-Tag:noindex
X-PUBLISHED-TTL:PT1H
BEGIN:VTIMEZONE
TZID:Europe/Berlin
BEGIN:DAYLIGHT
TZOFFSETFROM:+0100
TZOFFSETTO:+0200
TZNAME:CEST
DTSTART:20250330T010000
END:DAYLIGHT
BEGIN:STANDARD
TZOFFSETFROM:+0200
TZOFFSETTO:+0100
TZNAME:CET
DTSTART:20251026T010000
END:STANDARD
BEGIN:DAYLIGHT
TZOFFSETFROM:+0100
TZOFFSETTO:+0200
TZNAME:CEST
DTSTART:20260329T010000
END:DAYLIGHT
BEGIN:STANDARD
TZOFFSETFROM:+0200
TZOFFSETTO:+0100
TZNAME:CET
DTSTART:20261025T010000
END:STANDARD
BEGIN:DAYLIGHT
TZOFFSETFROM:+0100
TZOFFSETTO:+0200
TZNAME:CEST
DTSTART:20270328T010000
END:DAYLIGHT
BEGIN:STANDARD
TZOFFSETFROM:+0200
TZOFFSETTO:+0100
TZNAME:CET
DTSTART:20271031T010000
END:STANDARD
END:VTIMEZONE
BEGIN:VEVENT
DTSTART;TZID=Europe/Berlin:20260124T090000
DTEND;TZID=Europe/Berlin:20260124T090000
DTSTAMP:20260424T122834
CREATED:20250911T184322Z
LAST-MODIFIED:20251104T161520Z
UID:3091-1769245200-1769245200@www.landfrauen-diepholz.de
SUMMARY:Landfrauenfrühstück bei Castendieck
DESCRIPTION:Eingeladen haben wir Elise Plietsch (alias Dette Zingler). \nDie „ordentliche Landfrau“ kommt zu uns nach St. Hülfe. Das Dötlinger Original berichtet mit spitzer Zunge über Land\, Leute und Zeitgeschehen. \nBeginn: 09:00 Uhr \nKosten: 24\,00 € \nKarten werden auf beiden Weihnachtsfeiern verkauft \nweiter Anmeldung bei Inge Gölke
URL:https://www.landfrauen-diepholz.de/veranstaltung/landfrauenfruehstueck-bei-castendieck/
LOCATION:Hotel & Restaurant Castendieck\, Bremer Str. 20\, Diepholz\, Niedersachsen\, 49356\, Germany
END:VEVENT
BEGIN:VEVENT
DTSTART;TZID=Europe/Berlin:20260130T183000
DTEND;TZID=Europe/Berlin:20260130T183000
DTSTAMP:20260424T122834
CREATED:20250911T185228Z
LAST-MODIFIED:20251104T161742Z
UID:3096-1769797800-1769797800@www.landfrauen-diepholz.de
SUMMARY:Kochkurs zum Thema "Wintergemüse"
DESCRIPTION:Wir kochen in der Schule „Am Geestmoor“ in Rehden\, Schulstr. 9. \nHenrike Hüsken wird raffinierte Gerichte mit Steckrübe\, Wirsing und Co mit uns zubereiten. \nBegrenzte Teilnehmerzahl \nBeginn: 18:30 \nKosten 10 € pro Person zzgl. Kosten für Lebensmittel (bitte vor Ort bezahlen) \nAnmeldung bei Marion Grelle bis zum 14.01.26 \n 
URL:https://www.landfrauen-diepholz.de/veranstaltung/kochkurs-zum-thema-wintergemuese/
LOCATION:Schule “ Am Geestmoor“\, Schulstr.9\, Rehden\, 49453\, Germany
END:VEVENT
END:VCALENDAR