BEGIN:VCALENDAR
VERSION:2.0
PRODID:-//LandFrauen Diepholz e.V. - ECPv6.15.16//NONSGML v1.0//EN
CALSCALE:GREGORIAN
METHOD:PUBLISH
X-ORIGINAL-URL:https://www.landfrauen-diepholz.de
X-WR-CALDESC:Veranstaltungen für LandFrauen Diepholz e.V.
REFRESH-INTERVAL;VALUE=DURATION:PT1H
X-Robots-Tag:noindex
X-PUBLISHED-TTL:PT1H
BEGIN:VTIMEZONE
TZID:Europe/Berlin
BEGIN:DAYLIGHT
TZOFFSETFROM:+0100
TZOFFSETTO:+0200
TZNAME:CEST
DTSTART:20240331T010000
END:DAYLIGHT
BEGIN:STANDARD
TZOFFSETFROM:+0200
TZOFFSETTO:+0100
TZNAME:CET
DTSTART:20241027T010000
END:STANDARD
BEGIN:DAYLIGHT
TZOFFSETFROM:+0100
TZOFFSETTO:+0200
TZNAME:CEST
DTSTART:20250330T010000
END:DAYLIGHT
BEGIN:STANDARD
TZOFFSETFROM:+0200
TZOFFSETTO:+0100
TZNAME:CET
DTSTART:20251026T010000
END:STANDARD
BEGIN:DAYLIGHT
TZOFFSETFROM:+0100
TZOFFSETTO:+0200
TZNAME:CEST
DTSTART:20260329T010000
END:DAYLIGHT
BEGIN:STANDARD
TZOFFSETFROM:+0200
TZOFFSETTO:+0100
TZNAME:CET
DTSTART:20261025T010000
END:STANDARD
END:VTIMEZONE
BEGIN:VEVENT
DTSTART;TZID=Europe/Berlin:20250808T173000
DTEND;TZID=Europe/Berlin:20250808T173000
DTSTAMP:20260424T210924
CREATED:20250305T191843Z
LAST-MODIFIED:20250306T083927Z
UID:2928-1754674200-1754674200@www.landfrauen-diepholz.de
SUMMARY:Waldbühne Kloster Oesede\, Musical
DESCRIPTION:Das Musical „Kein Pardon“ basiert auf dem gleichnamigen Kultfilm von Hape Kerkeling und erzählt die Geschichte des schüchternen Peter Schlönzke\, der in der heimatlichen Imbissbude seiner Eltern arbeitet\, aber von einer großen Karriere im Showbusiness träumt. Mit spritzigen Dialogen\, witzigen Songs und viel Herz nimmt das Musical die Glitzerwelt des Fernsehens humorvoll aufs Korn. \nAbfahrt: 17.30 Uhr\, Marktplatz Diepholz\, Auf dem Esch\, Rückfahrt 22.15 Uhr \nKosten: 45\,00 Euro für Theaterkarte und Busfahrt\, Überweisung auf das Veranstaltungskonto unter Stichwort „Waldbühne“\nAnmeldung bei: Christine Heseker bis 20.07.2025
URL:https://www.landfrauen-diepholz.de/veranstaltung/waldbuehne-kloster-oesede-musical/
LOCATION:Marktplatz Diepholz\, Auf dem Esch\, Diepholz\, 49356\, Germany
END:VEVENT
BEGIN:VEVENT
DTSTART;TZID=Europe/Berlin:20250822T100000
DTEND;TZID=Europe/Berlin:20250822T100000
DTSTAMP:20260424T210924
CREATED:20250305T192703Z
LAST-MODIFIED:20250306T083824Z
UID:2930-1755856800-1755856800@www.landfrauen-diepholz.de
SUMMARY:Tagesradtour Rehden
DESCRIPTION:Die Überraschungstour führt uns durch die Gemeinde Rehden. Geplant sind Mittagessen\, Kaffee und Besichtigungen. Begrenzte Teilnehmerzahl. \nBeginn: 10.00 Uhr am Treffpunkt in Rehden an der Sporthalle Dickelerstr.\nKosten für Verpflegung sind vor Ort bar zu zahlen.\nAnmeldung bei: Marion Grelle bis 12.08.25
URL:https://www.landfrauen-diepholz.de/veranstaltung/tagesradtour-rehden/
LOCATION:Sporthalle Rehden\, Dickeler Straße 22\, Rehden\, 49453\, Germany
END:VEVENT
END:VCALENDAR