BEGIN:VCALENDAR
VERSION:2.0
PRODID:-//LandFrauen Diepholz e.V. - ECPv6.15.16//NONSGML v1.0//EN
CALSCALE:GREGORIAN
METHOD:PUBLISH
X-WR-CALNAME:LandFrauen Diepholz e.V.
X-ORIGINAL-URL:https://www.landfrauen-diepholz.de
X-WR-CALDESC:Veranstaltungen für LandFrauen Diepholz e.V.
REFRESH-INTERVAL;VALUE=DURATION:PT1H
X-Robots-Tag:noindex
X-PUBLISHED-TTL:PT1H
BEGIN:VTIMEZONE
TZID:Europe/Berlin
BEGIN:DAYLIGHT
TZOFFSETFROM:+0100
TZOFFSETTO:+0200
TZNAME:CEST
DTSTART:20240331T010000
END:DAYLIGHT
BEGIN:STANDARD
TZOFFSETFROM:+0200
TZOFFSETTO:+0100
TZNAME:CET
DTSTART:20241027T010000
END:STANDARD
BEGIN:DAYLIGHT
TZOFFSETFROM:+0100
TZOFFSETTO:+0200
TZNAME:CEST
DTSTART:20250330T010000
END:DAYLIGHT
BEGIN:STANDARD
TZOFFSETFROM:+0200
TZOFFSETTO:+0100
TZNAME:CET
DTSTART:20251026T010000
END:STANDARD
BEGIN:DAYLIGHT
TZOFFSETFROM:+0100
TZOFFSETTO:+0200
TZNAME:CEST
DTSTART:20260329T010000
END:DAYLIGHT
BEGIN:STANDARD
TZOFFSETFROM:+0200
TZOFFSETTO:+0100
TZNAME:CET
DTSTART:20261025T010000
END:STANDARD
END:VTIMEZONE
BEGIN:VEVENT
DTSTART;TZID=Europe/Berlin:20250716T160000
DTEND;TZID=Europe/Berlin:20250716T160000
DTSTAMP:20260424T225517
CREATED:20250305T185426Z
LAST-MODIFIED:20250306T084307Z
UID:2923-1752681600-1752681600@www.landfrauen-diepholz.de
SUMMARY:Minigolf mit reichhaltigem Grillbüffet in Diepholz im Müntepark
DESCRIPTION:Beginn: 16.00 Uhr wird gespielt\, 18.00 Uhr Grillbüffet.\nMaximal 30 Personen.\nKosten: 30 Euro pro Person\, Bezahlung vor Ort\nAnmeldung bis zum 01.07.2025 bei: Mechthild Uebbing
URL:https://www.landfrauen-diepholz.de/veranstaltung/minigolf-mit-reichhaltigem-grillbueffet-in-diepholz-im-muentepark/
LOCATION:Müntepark Diepholz\, 49356 Diepholz
END:VEVENT
BEGIN:VEVENT
DTSTART;TZID=Europe/Berlin:20250729T060000
DTEND;TZID=Europe/Berlin:20250729T210000
DTSTAMP:20260424T225517
CREATED:20250305T191222Z
LAST-MODIFIED:20250306T084225Z
UID:2926-1753768800-1753822800@www.landfrauen-diepholz.de
SUMMARY:Geführte Tagesradtour „Von Hafen zu Hafen“
DESCRIPTION:Wir reisen mit dem Bus an. Von Bremerhaven geht es durch den Überseehafen zum Wurster Norddeich nach Dorum\, wo uns Würstchen und Kartoffelsalat erwarten. Dann geht´s nach Duhnen\, wo wir Zeit für einen Kaffee haben (Selbstzahler). Weiter nach Cuxhaven\, dann nach Döse\, dort werden die Räder aufgeladen. Für ein Frühstück muss jeder selbst sorgen. \nKosten: 65\,00 Euro für Busfahrt und Mittagessen\, bitte auf das Veranstaltungskonto überweisen\, Stichwort „Hafen“\nBeginn/Treffpunkt: 6.00 Uhr am Marktplatz\, Auf dem Esch in Diepholz\, hier werden die Räder verladen.\nRückkehr ca. 21.00 Uhr\nAnmeldung bei: Inge Gölke bis 10.07.2025
URL:https://www.landfrauen-diepholz.de/veranstaltung/gefuehrte-tagesradtour-von-hafen-zu-hafen/
LOCATION:Marktplatz Diepholz\, Auf dem Esch\, Diepholz\, 49356\, Germany
END:VEVENT
END:VCALENDAR