BEGIN:VCALENDAR
VERSION:2.0
PRODID:-//LandFrauen Diepholz e.V. - ECPv6.15.16//NONSGML v1.0//EN
CALSCALE:GREGORIAN
METHOD:PUBLISH
X-ORIGINAL-URL:https://www.landfrauen-diepholz.de
X-WR-CALDESC:Veranstaltungen für LandFrauen Diepholz e.V.
REFRESH-INTERVAL;VALUE=DURATION:PT1H
X-Robots-Tag:noindex
X-PUBLISHED-TTL:PT1H
BEGIN:VTIMEZONE
TZID:Europe/Berlin
BEGIN:DAYLIGHT
TZOFFSETFROM:+0100
TZOFFSETTO:+0200
TZNAME:CEST
DTSTART:20240331T010000
END:DAYLIGHT
BEGIN:STANDARD
TZOFFSETFROM:+0200
TZOFFSETTO:+0100
TZNAME:CET
DTSTART:20241027T010000
END:STANDARD
BEGIN:DAYLIGHT
TZOFFSETFROM:+0100
TZOFFSETTO:+0200
TZNAME:CEST
DTSTART:20250330T010000
END:DAYLIGHT
BEGIN:STANDARD
TZOFFSETFROM:+0200
TZOFFSETTO:+0100
TZNAME:CET
DTSTART:20251026T010000
END:STANDARD
BEGIN:DAYLIGHT
TZOFFSETFROM:+0100
TZOFFSETTO:+0200
TZNAME:CEST
DTSTART:20260329T010000
END:DAYLIGHT
BEGIN:STANDARD
TZOFFSETFROM:+0200
TZOFFSETTO:+0100
TZNAME:CET
DTSTART:20261025T010000
END:STANDARD
END:VTIMEZONE
BEGIN:VEVENT
DTSTART;TZID=Europe/Berlin:20250517T090000
DTEND;TZID=Europe/Berlin:20250517T090000
DTSTAMP:20260425T022230
CREATED:20250305T151846Z
LAST-MODIFIED:20250306T084809Z
UID:2905-1747472400-1747472400@www.landfrauen-diepholz.de
SUMMARY:Frühstück in der Tortenschmiede mit Vortrag zum Thema „Wie die Ernährung Schmerzen lindern kann“
DESCRIPTION:Entzündungen im Körper sind oft die Ursache für chronische Erkrankungen\, wie z. B. Gicht\, Rheuma und Arthritis. Erfahren Sie in diesem Vortrag von Renate Frank\, wie bestimmte Lebensmittel Entzündungen und Schmerzen auslösen oder reduzieren können. \nBeginn: 09.00 Uhr in der Tortenschmiede Dannhus\, Schmiedestr. 65\, 49459 Lembruch\nKosten: 20\,00 Euro pro Person\, inkl. Getränke\, Bezahlung vor Ort\nAnmeldungen bei: Christine Heseker bis 03.05.2025
URL:https://www.landfrauen-diepholz.de/veranstaltung/fruehstueck-in-der-tortenschmiede-mit-vortrag-zum-thema-wie-die-ernaehrung-schmerzen-lindern-kann/
LOCATION:Tortenschmiede Dannhus\, Schmiedestr. 65\, Lembruch\, 49459
END:VEVENT
BEGIN:VEVENT
DTSTART;TZID=Europe/Berlin:20250524T090000
DTEND;TZID=Europe/Berlin:20250524T133000
DTSTAMP:20260425T022230
CREATED:20250305T155901Z
LAST-MODIFIED:20250306T084730Z
UID:2910-1748077200-1748093400@www.landfrauen-diepholz.de
SUMMARY:Weidenflechten - Blumen
DESCRIPTION:Wir fertigen Blumen auf Stäben\, eine tolle Deko für den Garten. Bitte Handschuhe und Gartenschere mitbringen.\nBeginn: 9.00 Uhr bis 13.30 Uhr\nKosten: 35 Euro Kursgebühr\, bitte auf das Veranstaltungskonto überweisen\, Stichwort „Weiden flechten“ \nMaterialkosten (je nach Verbrauch) werden vor Ort bar bezahlt.\nAnmeldung bei: Hiltraud Markus bis zum 10.5.2025
URL:https://www.landfrauen-diepholz.de/veranstaltung/weidenflechten-blumen-grundschule-rehden-schulstr-9-49453-rehden/
LOCATION:Grundschule Rehden\, Schulstr. 9\, Rehden\, 49453
END:VEVENT
BEGIN:VEVENT
DTSTART;TZID=Europe/Berlin:20250528T183000
DTEND;TZID=Europe/Berlin:20250528T183000
DTSTAMP:20260425T022230
CREATED:20250305T160631Z
LAST-MODIFIED:20250306T084602Z
UID:2912-1748457000-1748457000@www.landfrauen-diepholz.de
SUMMARY:Kochkurs „Spargel mal anders“
DESCRIPTION:Wir kochen in der Schule „Am Geestmoor“ in Rehden\, Schulstr. 9 mit Henrike Hüsken raffinierte und kreative Gerichte mit Spargel. \nBeginn: 18.30 Uhr\nKosten: 10 Euro pro Person zzgl. anteilige Lebensmittelkosten\, vor Ort in bar zu zahlen.\nAnmeldung bei: Marion Grelle bis 14.05.2025
URL:https://www.landfrauen-diepholz.de/veranstaltung/kochkurs-spargel-mal-anders/
LOCATION:Schule “ Am Geestmoor“\, Schulstr.9\, Rehden\, 49453\, Germany
END:VEVENT
END:VCALENDAR