BEGIN:VCALENDAR
VERSION:2.0
PRODID:-//LandFrauen Diepholz e.V. - ECPv6.15.16//NONSGML v1.0//EN
CALSCALE:GREGORIAN
METHOD:PUBLISH
X-ORIGINAL-URL:https://www.landfrauen-diepholz.de
X-WR-CALDESC:Veranstaltungen für LandFrauen Diepholz e.V.
REFRESH-INTERVAL;VALUE=DURATION:PT1H
X-Robots-Tag:noindex
X-PUBLISHED-TTL:PT1H
BEGIN:VTIMEZONE
TZID:Europe/Berlin
BEGIN:DAYLIGHT
TZOFFSETFROM:+0100
TZOFFSETTO:+0200
TZNAME:CEST
DTSTART:20230326T010000
END:DAYLIGHT
BEGIN:STANDARD
TZOFFSETFROM:+0200
TZOFFSETTO:+0100
TZNAME:CET
DTSTART:20231029T010000
END:STANDARD
BEGIN:DAYLIGHT
TZOFFSETFROM:+0100
TZOFFSETTO:+0200
TZNAME:CEST
DTSTART:20240331T010000
END:DAYLIGHT
BEGIN:STANDARD
TZOFFSETFROM:+0200
TZOFFSETTO:+0100
TZNAME:CET
DTSTART:20241027T010000
END:STANDARD
BEGIN:DAYLIGHT
TZOFFSETFROM:+0100
TZOFFSETTO:+0200
TZNAME:CEST
DTSTART:20250330T010000
END:DAYLIGHT
BEGIN:STANDARD
TZOFFSETFROM:+0200
TZOFFSETTO:+0100
TZNAME:CET
DTSTART:20251026T010000
END:STANDARD
END:VTIMEZONE
BEGIN:VEVENT
DTSTART;TZID=Europe/Berlin:20241102T090000
DTEND;TZID=Europe/Berlin:20241102T163000
DTSTAMP:20260425T124445
CREATED:20240214T100217Z
LAST-MODIFIED:20241002T084314Z
UID:2219-1730538000-1730565000@www.landfrauen-diepholz.de
SUMMARY:Weidenflechten – Flechten einer Pyramide
DESCRIPTION:Wir fertigen eine Pyramide\, 80 cm oder 100 cm hoch. Tolle Deko für den Garten oder den Eingangsbereich. Bitte Handschuhe und Gartenschere mitbringen. \nBeginn Kurs 1: 09:00 – 12:00 Uhr\nBeginn Kurs 2: 13:30 – 16:30 Uhr\nKosten: Pyramide klein 48 Euro\, Pyramide groß 51 Euro\, Überweisung auf das Veranstaltungskonto\nAnmeldung bei: Hiltraud Markus bis 12.10.2024
URL:https://www.landfrauen-diepholz.de/veranstaltung/weidenflechten-flechten-einer-pyramide/
LOCATION:Grundschule Rehden\, Schulstr. 9\, Rehden\, 49453
END:VEVENT
BEGIN:VEVENT
DTSTART;TZID=Europe/Berlin:20241104T183000
DTEND;TZID=Europe/Berlin:20241104T183000
DTSTAMP:20260425T124445
CREATED:20240925T083626Z
LAST-MODIFIED:20241002T084243Z
UID:2289-1730745000-1730745000@www.landfrauen-diepholz.de
SUMMARY:Kleine Holzschilder für jeden Anlass
DESCRIPTION:Wir werden aus Leimholz kleine Schilder zum Hinstellen oder Aufhängen fertigen. Sie werden geschmirgelt\, gestrichen und mit verschiedenen Wortspielen versehen. Bitte mitbringen: Lineal\, Kugelschreiber\, Tesafilm\, Flachpinsel 4 cm. \nKosten: 20 Euro / Person\, Bezahlung vor Ort\nAnmeldung bei: Mechthild Uebbing bis 25.10.2024
URL:https://www.landfrauen-diepholz.de/veranstaltung/kleine-holzschilder-fuer-jeden-anlass/
LOCATION:Gemeinehaus Rehden\, Pastorenweg 7\, Rehden\, 49453
END:VEVENT
BEGIN:VEVENT
DTSTART;TZID=Europe/Berlin:20241109T150000
DTEND;TZID=Europe/Berlin:20241109T150000
DTSTAMP:20260425T124445
CREATED:20240925T083924Z
LAST-MODIFIED:20241002T084213Z
UID:2291-1731164400-1731164400@www.landfrauen-diepholz.de
SUMMARY:Fröbelsterne\, ein „Must-Have“ zu Weihnachten
DESCRIPTION:Wir basteln in gemütlicher Runde bei Kaffee\, Tee und Keksen die beliebten Fröbelsterne. Bitte Schere\, Bleistift\, Kugelschreiber\, Radiergummi und Kleber mitbringen. \nKosten: 10 Euro / Person\, Bezahlung vor Ort\nAnmeldung bei: Silke Hedemann
URL:https://www.landfrauen-diepholz.de/veranstaltung/froebelsterne-ein-must-have-zu-weihnachten/
LOCATION:Gemeinehaus Rehden\, Pastorenweg 7\, Rehden\, 49453
END:VEVENT
BEGIN:VEVENT
DTSTART;TZID=Europe/Berlin:20241123T090000
DTEND;TZID=Europe/Berlin:20241123T090000
DTSTAMP:20260425T124445
CREATED:20240925T082849Z
LAST-MODIFIED:20241105T104642Z
UID:2216-1732352400-1732352400@www.landfrauen-diepholz.de
SUMMARY:Frühstück in der Tortenschmiede Dannhus
DESCRIPTION:Wir hören den Vortrag von Edda Möhlenhof-Schumann „Energie statt Stress – Strategien der Selbstfürsorge“.  Was ist Stress\, wie entsteht er? Welche Rolle spielt dabei die Ernährung? \nKosten: 19 Euro / Person\, inkl. Getränke\, Bezahlung vor Ort\nAnmeldung: Christine Heseker bis 10.11.2024
URL:https://www.landfrauen-diepholz.de/veranstaltung/fruehstueck-in-der-tortenschmiede-dannhus/
LOCATION:Tortenschmiede Dannhus\, Schmiedestr. 65\, Lembruch\, 49459
END:VEVENT
BEGIN:VEVENT
DTSTART;VALUE=DATE:20241128
DTEND;VALUE=DATE:20241129
DTSTAMP:20260425T124445
CREATED:20240925T074726Z
LAST-MODIFIED:20241002T084050Z
UID:1527-1732752000-1732838399@www.landfrauen-diepholz.de
SUMMARY:Weihnachtsfahrt zum Schloss Gödens
DESCRIPTION:Fahrt zum Schloss Gödens. Frühstück im Grashaus in Friedburg und Besuch des Weihnachtsmarkts.\nRückfahrt 18:00 Uhr. \nKosten: 65 Euro / Person\, Bezahlung vor Ort\nAnmeldung bei: Inge Gölke \nAbfahrt:\nDiepholz Marktplatz: 07:45 Uhr\nWetscherhardt: 07:55 Uhr\nWetschen Recker: 08:00 Uhr\nRehden KSK: 08:05 Uhr\nWagenfeld Marktplatz: 08:15 Uhr\nStröhen KSK: 08:25 Uhr
URL:https://www.landfrauen-diepholz.de/veranstaltung/weihnachtsfahrt-zum-schloss-goedens/
END:VEVENT
END:VCALENDAR