BEGIN:VCALENDAR
VERSION:2.0
PRODID:-//LandFrauen Diepholz e.V. - ECPv6.15.16//NONSGML v1.0//EN
CALSCALE:GREGORIAN
METHOD:PUBLISH
X-ORIGINAL-URL:https://www.landfrauen-diepholz.de
X-WR-CALDESC:Veranstaltungen für LandFrauen Diepholz e.V.
REFRESH-INTERVAL;VALUE=DURATION:PT1H
X-Robots-Tag:noindex
X-PUBLISHED-TTL:PT1H
BEGIN:VTIMEZONE
TZID:Europe/Berlin
BEGIN:DAYLIGHT
TZOFFSETFROM:+0100
TZOFFSETTO:+0200
TZNAME:CEST
DTSTART:20230326T010000
END:DAYLIGHT
BEGIN:STANDARD
TZOFFSETFROM:+0200
TZOFFSETTO:+0100
TZNAME:CET
DTSTART:20231029T010000
END:STANDARD
BEGIN:DAYLIGHT
TZOFFSETFROM:+0100
TZOFFSETTO:+0200
TZNAME:CEST
DTSTART:20240331T010000
END:DAYLIGHT
BEGIN:STANDARD
TZOFFSETFROM:+0200
TZOFFSETTO:+0100
TZNAME:CET
DTSTART:20241027T010000
END:STANDARD
BEGIN:DAYLIGHT
TZOFFSETFROM:+0100
TZOFFSETTO:+0200
TZNAME:CEST
DTSTART:20250330T010000
END:DAYLIGHT
BEGIN:STANDARD
TZOFFSETFROM:+0200
TZOFFSETTO:+0100
TZNAME:CET
DTSTART:20251026T010000
END:STANDARD
END:VTIMEZONE
BEGIN:VEVENT
DTSTART;TZID=Europe/Berlin:20241007T183000
DTEND;TZID=Europe/Berlin:20241007T183000
DTSTAMP:20260425T141653
CREATED:20240925T075521Z
LAST-MODIFIED:20241002T084424Z
UID:1438-1728325800-1728325800@www.landfrauen-diepholz.de
SUMMARY:Vortrag „Sauberes Wasser\, welchen Beitrag liefert die Landwirtschaft?“
DESCRIPTION:Veranstaltung des Kreisverbandes: Prof. Dr. Licha wird über das lebensnotwendige Lebenselixier Wasser vieles zu berichten wissen\, sowie anhand von Beispielen erklären\, zu welchem Anteil die Landwirtschaft zur Verschlechterung der Wasserqualität relativ zu anderen Verursachern beiträgt. \nKosten: 13 Euro / Person inkl. Imbiss ohne Getränke\nAnmeldung bei: Kerstin Melfsen\, 0160 97901992
URL:https://www.landfrauen-diepholz.de/veranstaltung/vortrag-sauberes-wasser-welchen-beitrag-liefert-die-landwirtschaft/
LOCATION:Restaurant Dahlskamp\, Verdener Strasse 18\, Sulingen\, 27232
END:VEVENT
BEGIN:VEVENT
DTSTART;TZID=Europe/Berlin:20241010T190000
DTEND;TZID=Europe/Berlin:20241010T190000
DTSTAMP:20260425T141653
CREATED:20240925T074056Z
LAST-MODIFIED:20241002T084348Z
UID:2200-1728586800-1728586800@www.landfrauen-diepholz.de
SUMMARY:Steine bemalen zu Halloween / Herbst
DESCRIPTION:Doris Lindemann zeigt uns\, wie jeder schöne Motive\, wie Kürbisse\, Blätter\, Gespenster und Co. auf Steine malen kann. Gewaschene Steine können gerne mitgebracht werden. \nKosten: 10 Euro / Person\, Bezahlung vor Ort\nAnmeldung bei: Sylvia Klausing bis 01.10.2024
URL:https://www.landfrauen-diepholz.de/veranstaltung/steine-bemalen-zu-halloween-herbst/
LOCATION:Gemeinehaus Rehden\, Pastorenweg 7\, Rehden\, 49453
END:VEVENT
END:VCALENDAR